BEGIN:VCALENDAR
VERSION:2.0
PRODID:-//Your Company//EN
BEGIN:VEVENT
UID:69ecd4e1a06dd@yourdomain.com
DTSTAMP:20260425T145113Z
DTSTART;VALUE=DATE:20260519
DTEND;VALUE=DATE:20260521
SUMMARY:GNS-Summit
DESCRIPTION:Das Thema Nachhaltigkeit gehört unlängst zu allen Bereichen: von Gesellschaft und Politik über Wissenschaft bis hin zur Wirtschaft. Auch der Assekuranz kommt eine tragende Rolle bei der nachhaltigen Entwicklung zu und die Akteure arbeiten daran\, Nachhaltigkeit entlang der gesamten Wertschöpfungskette zu integrieren und alle Dimensionen von ESG zu berücksichtigen. Mit unserer jährlichen Fachkonferenz bieten wir Ihnen die Möglichkeit eines branchenspezifischen Wissens- und Erfahrungsaustauschs.
LOCATION:Spreespeicher Berlin
END:VEVENT
END:VCALENDAR
