BEGIN:VCALENDAR
VERSION:2.0
PRODID:-//Your Company//EN
BEGIN:VEVENT
UID:69eceb9ec060a@yourdomain.com
DTSTAMP:20260425T162814Z
DTSTART;VALUE=DATE:20260624
DTEND;VALUE=DATE:20260626
SUMMARY:Sustainability Summit
DESCRIPTION:In einer Zeit\, in der Nachhaltigkeit einen immer größeren Stellenwert in der Geschäftswelt einnimmt\, stehen Unternehmen vor der Herausforderung\, nicht nur nachhaltig zu handeln\, sondern auch eine starke Kundenbindung zu schaffen. Doch wie viel Nachhaltigkeit wünschen sich Kunden wirklich\, und wie können Unternehmen diese Erwartungen erfüllen\, ohne ihre Profitabilität zu beeinträchtigen?
LOCATION:Hamburg
END:VEVENT
END:VCALENDAR
