BEGIN:VCALENDAR
VERSION:2.0
PRODID:-//Your Company//EN
BEGIN:VEVENT
UID:69eceb6b26e7f@yourdomain.com
DTSTAMP:20260425T162723Z
DTSTART;VALUE=DATE:20261019
DTEND;VALUE=DATE:20261031
SUMMARY:2026 UN Biodiversity Conference (CBD COP 17)
DESCRIPTION:The 17th meeting of the Conference of the Parties (COP) to the Convention on Biological Diversity (CBD) will convene in October 2026. The 12th Meeting of the Conference of the Parties serving as the Meeting of the Parties (MOP) to the Cartagena Protocol on Biosafety (CP-MOP-12) and the sixth MOP to the Nagoya Protocol on Access to Genetic Resources and the Fair and Equitable Sharing of the Benefits Arising from their Utilization (NP-MOP-6) will also convene.
LOCATION:Yerevan\, Armenia
END:VEVENT
END:VCALENDAR
