BEGIN:VCALENDAR
VERSION:2.0
PRODID:-//Your Company//EN
BEGIN:VEVENT
UID:69ecd4e7e3a29@yourdomain.com
DTSTAMP:20260425T145119Z
DTSTART;VALUE=DATE:20260620
DTEND;VALUE=DATE:20260622
SUMMARY:ZAMANAND FESTIVAL - Juni
DESCRIPTION:Wir sind Münchens Plattform für Nachhaltigkeit\, Vielfalt und Teilhabe!
An zwei Wochenenden im Jahr entsteht anlässlich des autofreien Tages ein spannender Freiraum mitten im Herzen Münchens.
LOCATION:Ludwigstraße\, München
END:VEVENT
END:VCALENDAR
