BEGIN:VCALENDAR
VERSION:2.0
PRODID:-//Your Company//EN
BEGIN:VEVENT
UID:69ecec4e3b494@yourdomain.com
DTSTAMP:20260425T163110Z
DTSTART;VALUE=DATE:20260912
DTEND;VALUE=DATE:20260914
SUMMARY:ZAMANAND FESTIVAL - September
DESCRIPTION:Wir sind Münchens Plattform für Nachhaltigkeit\, Vielfalt und Teilhabe!
An zwei Wochenenden im Jahr entsteht anlässlich des autofreien Tages ein spannender Freiraum mitten im Herzen Münchens.
LOCATION:Ludwigstraße\, München
END:VEVENT
END:VCALENDAR
