BEGIN:VCALENDAR
VERSION:2.0
PRODID:-//Your Company//EN
BEGIN:VEVENT
UID:69ecd534e0fe2@yourdomain.com
DTSTAMP:20260425T145236Z
DTSTART;VALUE=DATE:20260614
DTEND;VALUE=DATE:20260615
SUMMARY:Münchner Radl-Dult
DESCRIPTION:Am Sonntag\, 14. Juni 2026\, findet von 10 bis 17 Uhr\, das dritte Mal die „Münchner Radl-Dult“ auf dem Mariahilfplatz in der Au statt. Der große Radlflohmarkt bietet eine Fülle an Fahrrädern\, während Mitmachaktionen und Workshops Groß und Klein zum Ausprobieren einladen.
LOCATION:Mariahilfplatz\, München
END:VEVENT
END:VCALENDAR
