BEGIN:VCALENDAR
VERSION:2.0
PRODID:-//Your Company//EN
BEGIN:VEVENT
UID:69ecd470d4c8f@yourdomain.com
DTSTAMP:20260425T144920Z
DTSTART;VALUE=DATE:20260428
DTEND;VALUE=DATE:20260429
SUMMARY:Radl-Talk zur Schulwegsicherheit
DESCRIPTION:Mit dem Rad und zu Fuß sicher unterwegs
Maßnahmen von Stadt und Polizei für die Schulwegsicherheit
LOCATION:Stadtbibliothek im Motorama\, Rosenheimer Str. 30-32\, 81669 München
END:VEVENT
END:VCALENDAR
