BEGIN:VCALENDAR
VERSION:2.0
PRODID:-//Your Company//EN
BEGIN:VEVENT
UID:69ecd501b1242@yourdomain.com
DTSTAMP:20260425T145145Z
DTSTART;VALUE=DATE:20260607
DTEND;VALUE=DATE:20260608
SUMMARY:Green World Tour - Köln
DESCRIPTION:Zwei Messetage\, innovative Aussteller*innen mit vielen Angeboten: Die Green World Tour bringt die ganze Vielfalt der Nachhaltigkeit nach Deutschland und Österreich.
LOCATION:Köln
END:VEVENT
END:VCALENDAR
