BEGIN:VCALENDAR
VERSION:2.0
PRODID:-//Your Company//EN
BEGIN:VEVENT
UID:69ecd4e7e3d28@yourdomain.com
DTSTAMP:20260425T145119Z
DTSTART;VALUE=DATE:20260620
DTEND;VALUE=DATE:20260622
SUMMARY:Green World Tour - München
DESCRIPTION:Zwei Messetage\, innovative Aussteller*innen mit vielen Angeboten: Die Green World Tour bringt die ganze Vielfalt der Nachhaltigkeit nach Deutschland und Österreich.
LOCATION:München
END:VEVENT
END:VCALENDAR
