BEGIN:VCALENDAR
VERSION:2.0
PRODID:-//Your Company//EN
BEGIN:VEVENT
UID:69eceb6a7ac37@yourdomain.com
DTSTAMP:20260425T162722Z
DTSTART;VALUE=DATE:20260623
DTEND;VALUE=DATE:20260626
SUMMARY:GREENTECH FESTIVAL
DESCRIPTION:Das GREENTECH FESTIVAL ist die weltweit führende Plattform für unternehmerische Transformation und vereint Innovator:innen\, Wegbereiter:innen und Interessensgruppen\, um zukunftsweisende grüne Technologien zu präsentieren\, branchenrelevante Erkenntnisse auszutauschen und die industrieübergreifende Dekarbonisierung voranzutreiben. Das Event findet jährlich in Berlin statt und umfasst die EXHIBITION\, CONFERENCE sowie die GREEN AWARDS.
LOCATION:Berlin ExpoCenter City
END:VEVENT
END:VCALENDAR
