BEGIN:VCALENDAR
VERSION:2.0
PRODID:-//Your Company//EN
BEGIN:VEVENT
UID:69ecd47059565@yourdomain.com
DTSTAMP:20260425T144920Z
DTSTART;VALUE=DATE:20260512
DTEND;VALUE=DATE:20260514
SUMMARY:DECOMM 2026
DESCRIPTION:14. Deutsche Konferenz für Mobilitätsmanagement am 12. und 13. Mai 2026
Mobilität in Stadt und Land – Erfolgsfaktoren für ein gelungenes Mobilitätsmanagement
LOCATION:Bessie-Coleman-Straße\, 7 60549 Frankfurt am Main
END:VEVENT
END:VCALENDAR
